Workbook

Sheet 전체목록
A1: 추석 연휴 문여는 의료기관 및 약국 현황(5개 자치구)
A3: 진료 및 운영 시간은 의료기관, 약국 사정에 따라 변동 가능하니, 방문 전 사전 연락 바랍니다.
A5: 시도 | B5: 구군 | C5: 구분 | D5: 병원명 | E5: 위치 | F5: 전화번호 | G5: 2026-09-24(목) | H5: 2026-09-25(금) | I5: 2026-09-26(토) | J5: 2026-09-27(일)
A6: 전남광주통합특별시 | B6: 동구 | C6: 상급종합병원 | D6: 전남대학교병원 | E6: 전남광주통합특별시 동구 제봉로 42 (학동) | F6: 1899-0000 | G6: 응급실운영 | H6: 응급실운영 | I6: 응급실운영 | J6: 응급실운영
A7: 전남광주통합특별시 | B7: 동구 | C7: 상급종합병원 | D7: 조선대학교병원 | E7: 전남광주통합특별시 동구 필문대로 365 (서석동) | F7: 1811-7474 | G7: 응급실운영 | H7: 응급실운영 | I7: 응급실운영 | J7: 응급실운영
A8: 전남광주통합특별시 | B8: 동구 | C8: 의원 | D8: 고운연합의원 | E8: 전남광주통합특별시 동구 남문로 746-1, 지상2~3층 (학동) | F8: 062-236-0075 | G8: 08:30~12:30 | H8: 08:30~12:30 | I8: 08:30~12:30 | J8: 휴무
A9: 전남광주통합특별시 | B9: 동구 | C9: 한방병원 | D9: 천지인한방병원 | E9: 전남광주통합특별시 동구 남문로 679 (학동) | F9: 062-228-1175 | G9: 휴무 | H9: 휴무 | I9: 휴무 | J9: 12:30~17:30
A10: 전남광주통합특별시 | B10: 동구 | C10: 한의원 | D10: 강한의원 | E10: 전남광주통합특별시 동구 갈마로 48 (산수동) | F10: 062-261-8275 | G10: 10:00~13:00 | H10: 휴무 | I10: 10:00~13:00 | J10: 10:00~13:00
A11: 전남광주통합특별시 | B11: 동구 | C11: 약국 | D11: 365문화전당약국 | E11: 전남광주통합특별시 동구 서석로 46, 1층 (광산동) | F11: 062-446-8818 | G11: 11:00~22:00 | H11: 11:00~22:00 | I11: 11:00~22:30 | J11: 11:00~22:00
A12: 전남광주통합특별시 | B12: 동구 | C12: 약국 | D12: 365화목약국 | E12: 전남광주통합특별시 동구 독립로264번길 2 (금남로5가) | F12: 0502-1902-3378 | G12: 휴무 | H12: 휴무 | I12: 휴무 | J12: 11:00~20:30
A13: 전남광주통합특별시 | B13: 동구 | C13: 약국 | D13: ACC라온약국 | E13: 전남광주통합특별시 동구 문화전당로26번길 6, 102호 (남동) | F13: 062-222-3317 | G13: 10:00~17:00 | H13: 휴무 | I13: 10:00~17:00 | J13: 10:00~17:00
A14: 전남광주통합특별시 | B14: 동구 | C14: 약국 | D14: 남도약국 | E14: 전남광주통합특별시 동구 제봉로 19, (학동) | F14: 062-232-5206 | G14: 09:00~18:00 | H14: 휴무 | I14: 휴무 | J14: 09:00~18:00
A15: 전남광주통합특별시 | B15: 동구 | C15: 약국 | D15: 대동약국 | E15: 전남광주통합특별시 동구 백서로125번길 25 | F15: 062-223-7675 | G15: 10:00~26:00 | H15: 18:00~26:00 | I15: 10:00~26:00 | J15: 18:00~26:00
A16: 전남광주통합특별시 | B16: 동구 | C16: 약국 | D16: 부강한약국 | E16: 전남광주통합특별시 동구 계림로30번길 15, 상가동 1층 109호 (계림동, 푸른길 두산위브) | F16: 062-224-2405 | G16: 10:30~20:00 | H16: 휴무 | I16: 10:30~20:00 | J16: 휴무
... A256: 전남광주통합특별시 | B256: 북구 | C256: 약국 | D256: 란약국 | E256: 전남광주통합특별시 북구 군왕로 127-1, (두암동) | F256: 062-264-5679 | G256: 08:00~20:30 | H256: 휴무 | I256: 휴무 | J256: 휴무
A257: 전남광주통합특별시 | B257: 북구 | C257: 약국 | D257: 매곡종로약국 | E257: 전남광주통합특별시 북구 매곡로 61(매곡동) | F257: 625730374 | G257: 09:00~21:00 | H257: 14:00~20:00 | I257: 14:00~20:00 | J257: 14:00~20:00
A258: 전남광주통합특별시 | B258: 북구 | C258: 약국 | D258: 메디팜세종약국 | E258: 전남광주통합특별시 북구 삼정로 110, 1층 (두암동) | F258: 062-263-6800 | G258: 09:00~18:00 | H258: 휴무 | I258: 휴무 | J258: 휴무
A259: 전남광주통합특별시 | B259: 북구 | C259: 약국 | D259: 명문약국 | E259: 전남광주통합특별시 북구 하서로 414 (양산동) | F259: 062-574-0320 | G259: 10:00~21:00 | H259: 휴무 | I259: 10:00~21:00 | J259: 휴무
A260: 전남광주통합특별시 | B260: 북구 | C260: 약국 | D260: 명지약국 | E260: 전남광주통합특별시 북구 무등로 102, (신안동) | F260: 062-529-2559 | G260: 11:00~18:00 | H260: 휴무 | I260: 11:00~18:00 | J260: 11:00~18:00
A261: 전남광주통합특별시 | B261: 북구 | C261: 약국 | D261: 미미약국 | E261: 전남광주통합특별시 북구 서방로 167 (두암동) | F261: 062-261-9700 | G261: 10:00~22:00 | H261: 10:00~22:00 | I261: 10:00~22:00 | J261: 10:00~22:00
A262: 전남광주통합특별시 | B262: 북구 | C262: 약국 | D262: 백림약국 | E262: 전남광주통합특별시 북구 필문대로 85 (풍향동) | F262: 062-263-0994 | G262: 09:00~01:00 | H262: 09:00~01:00 | I262: 09:00~01:00 | J262: 09:00~01:00
A263: 전남광주통합특별시 | B263: 북구 | C263: 약국 | D263: 빛고을문흥종로약국 | E263: 전남광주통합특별시 북구 서하로 379, (문흥동) | F263: 062-251-2794 | G263: 09:00~21:00 | H263: 12:00~22:00 | I263: 09:00~22:00 | J263: 10:00~22:00
A264: 전남광주통합특별시 | B264: 북구 | C264: 약국 | D264: 빛고을약국 | E264: 전남광주통합특별시 북구 북문대로242번길 5 (동림동) | F264: 062-513-3593 | G264: 08:00~13:00 | H264: 휴무 | I264: 휴무 | J264: 휴무
A265: 전남광주통합특별시 | B265: 북구 | C265: 약국 | D265: 빛고을종로약국 | E265: 전남광주통합특별시 북구 설죽로 496, 1층 (일곡동) | F265: 062-571-5882 | G265: 10:00~20:00 | H265: 10:00~20:00 | I265: 10:00~20:00 | J265: 10:00~20:00
A266: 전남광주통합특별시 | B266: 북구 | C266: 약국 | D266: 사거리약국 | E266: 전남광주통합특별시 북구 양산로 55, 102호 (양산동) | F266: 062-417-7371 | G266: 10:00~22:00 | H266: 휴무 | I266: 10:00~22:00 | J266: 10:00~22:00
A267: 전남광주통합특별시 | B267: 북구 | C267: 약국 | D267: 삼각우리약국 | E267: 전남광주통합특별시 북구 설죽로370번길 30, 1층 (오치동) | F267: 062-251-1527 | G267: 08:00~12:00 | H267: 휴무 | I267: 08:00~12:00 | J267: 휴무
A268: 전남광주통합특별시 | B268: 북구 | C268: 약국 | D268: 새아침약국 | E268: 전남광주통합특별시 북구 북문대로 184, 105호 (운암동) | F268: 062-523-7856 | G268: 08:30~17:30 | H268: 휴무 | I268: 09:30~17:30 | J268: 09:30~17:30
A269: 전남광주통합특별시 | B269: 북구 | C269: 약국 | D269: 생생약국 | E269: 전남광주통합특별시 북구 각화대로 7(각화동) | F269: 062-269-9600 | G269: 09:00~13:00 | H269: 09:00~13:00 | I269: 09:00~13:00 | J269: 09:00~13:00
... A367: 전남광주통합특별시 | B367: 광산구 | C367: 약국 | D367: 한마음약국 | E367: 전남광주통합특별시 광산구 손재로 1, (산정동) | F367: 062-953-0250 | G367: 09:00~13:00 | H367: 휴무 | I367: 휴무 | J367: 휴무

Sheet 계산
A1: 일치행 | C1: 구 | D1: 구분 | E1: 날짜
C2: 전체 | D2: 전체 | E2: 전체
C3: 동구 | D3: 응급실 운영기관 | E3: 2026-09-24(목)
C4: 서구 | D4: 상급종합병원 | E4: 2026-09-25(금)
C5: 남구 | D5: 종합병원 | E5: 2026-09-26(토)
A6: =IF(AND(OR(#REF!="전체",전체목록!B6=#REF!),OR(#REF!="전체",전체목록!C6=#REF!,AND(#REF!="응급실 운영기관",COUNTIF(전체목록!G6:J6,"응급실운영")>0)),OR(#REF!="전체",IFERROR(INDEX(전체목록!G6:J6,MATCH(#REF!,전체목록!$G$5:$J$5,0))<>"휴무",FALSE())),OR(#REF!="",ISNUMBER(SEARCH(#REF!,전체목록!D6&" "&전체목록!E6)))),ROW(),"") -> #REF! | C6: 북구 | D6: 병원 | E6: 2026-09-27(일)
A7: =IF(AND(OR(#REF!="전체",전체목록!B7=#REF!),OR(#REF!="전체",전체목록!C7=#REF!,AND(#REF!="응급실 운영기관",COUNTIF(전체목록!G7:J7,"응급실운영")>0)),OR(#REF!="전체",IFERROR(INDEX(전체목록!G7:J7,MATCH(#REF!,전체목록!$G$5:$J$5,0))<>"휴무",FALSE())),OR(#REF!="",ISNUMBER(SEARCH(#REF!,전체목록!D7&" "&전체목록!E7)))),ROW(),"") -> #REF! | C7: 광산구 | D7: 요양병원
A8: =IF(AND(OR(#REF!="전체",전체목록!B8=#REF!),OR(#REF!="전체",전체목록!C8=#REF!,AND(#REF!="응급실 운영기관",COUNTIF(전체목록!G8:J8,"응급실운영")>0)),OR(#REF!="전체",IFERROR(INDEX(전체목록!G8:J8,MATCH(#REF!,전체목록!$G$5:$J$5,0))<>"휴무",FALSE())),OR(#REF!="",ISNUMBER(SEARCH(#REF!,전체목록!D8&" "&전체목록!E8)))),ROW(),"") -> #REF! | D8: 의원
A9: =IF(AND(OR(#REF!="전체",전체목록!B9=#REF!),OR(#REF!="전체",전체목록!C9=#REF!,AND(#REF!="응급실 운영기관",COUNTIF(전체목록!G9:J9,"응급실운영")>0)),OR(#REF!="전체",IFERROR(INDEX(전체목록!G9:J9,MATCH(#REF!,전체목록!$G$5:$J$5,0))<>"휴무",FALSE())),OR(#REF!="",ISNUMBER(SEARCH(#REF!,전체목록!D9&" "&전체목록!E9)))),ROW(),"") -> #REF! | D9: 치과병원
A10: =IF(AND(OR(#REF!="전체",전체목록!B10=#REF!),OR(#REF!="전체",전체목록!C10=#REF!,AND(#REF!="응급실 운영기관",COUNTIF(전체목록!G10:J10,"응급실운영")>0)),OR(#REF!="전체",IFERROR(INDEX(전체목록!G10:J10,MATCH(#REF!,전체목록!$G$5:$J$5,0))<>"휴무",FALSE())),OR(#REF!="",ISNUMBER(SEARCH(#REF!,전체목록!D10&" "&전체목록!E10)))),ROW(),"") -> #REF! | D10: 치과의원
A11: =IF(AND(OR(#REF!="전체",전체목록!B11=#REF!),OR(#REF!="전체",전체목록!C11=#REF!,AND(#REF!="응급실 운영기관",COUNTIF(전체목록!G11:J11,"응급실운영")>0)),OR(#REF!="전체",IFERROR(INDEX(전체목록!G11:J11,MATCH(#REF!,전체목록!$G$5:$J$5,0))<>"휴무",FALSE())),OR(#REF!="",ISNUMBER(SEARCH(#REF!,전체목록!D11&" "&전체목록!E11)))),ROW(),"") -> #REF! | D11: 한방병원
A12: =IF(AND(OR(#REF!="전체",전체목록!B12=#REF!),OR(#REF!="전체",전체목록!C12=#REF!,AND(#REF!="응급실 운영기관",COUNTIF(전체목록!G12:J12,"응급실운영")>0)),OR(#REF!="전체",IFERROR(INDEX(전체목록!G12:J12,MATCH(#REF!,전체목록!$G$5:$J$5,0))<>"휴무",FALSE())),OR(#REF!="",ISNUMBER(SEARCH(#REF!,전체목록!D12&" "&전체목록!E12)))),ROW(),"") -> #REF! | D12: 한의원
A13: =IF(AND(OR(#REF!="전체",전체목록!B13=#REF!),OR(#REF!="전체",전체목록!C13=#REF!,AND(#REF!="응급실 운영기관",COUNTIF(전체목록!G13:J13,"응급실운영")>0)),OR(#REF!="전체",IFERROR(INDEX(전체목록!G13:J13,MATCH(#REF!,전체목록!$G$5:$J$5,0))<>"휴무",FALSE())),OR(#REF!="",ISNUMBER(SEARCH(#REF!,전체목록!D13&" "&전체목록!E13)))),ROW(),"") -> #REF! | D13: 보건소
A14: =IF(AND(OR(#REF!="전체",전체목록!B14=#REF!),OR(#REF!="전체",전체목록!C14=#REF!,AND(#REF!="응급실 운영기관",COUNTIF(전체목록!G14:J14,"응급실운영")>0)),OR(#REF!="전체",IFERROR(INDEX(전체목록!G14:J14,MATCH(#REF!,전체목록!$G$5:$J$5,0))<>"휴무",FALSE())),OR(#REF!="",ISNUMBER(SEARCH(#REF!,전체목록!D14&" "&전체목록!E14)))),ROW(),"") -> #REF! | D14: 보건진료소
A15: =IF(AND(OR(#REF!="전체",전체목록!B15=#REF!),OR(#REF!="전체",전체목록!C15=#REF!,AND(#REF!="응급실 운영기관",COUNTIF(전체목록!G15:J15,"응급실운영")>0)),OR(#REF!="전체",IFERROR(INDEX(전체목록!G15:J15,MATCH(#REF!,전체목록!$G$5:$J$5,0))<>"휴무",FALSE())),OR(#REF!="",ISNUMBER(SEARCH(#REF!,전체목록!D15&" "&전체목록!E15)))),ROW(),"") -> #REF! | D15: 약국
A16: =IF(AND(OR(#REF!="전체",전체목록!B16=#REF!),OR(#REF!="전체",전체목록!C16=#REF!,AND(#REF!="응급실 운영기관",COUNTIF(전체목록!G16:J16,"응급실운영")>0)),OR(#REF!="전체",IFERROR(INDEX(전체목록!G16:J16,MATCH(#REF!,전체목록!$G$5:$J$5,0))<>"휴무",FALSE())),OR(#REF!="",ISNUMBER(SEARCH(#REF!,전체목록!D16&" "&전체목록!E16)))),ROW(),"") -> #REF!
A17: =IF(AND(OR(#REF!="전체",전체목록!B17=#REF!),OR(#REF!="전체",전체목록!C17=#REF!,AND(#REF!="응급실 운영기관",COUNTIF(전체목록!G17:J17,"응급실운영")>0)),OR(#REF!="전체",IFERROR(INDEX(전체목록!G17:J17,MATCH(#REF!,전체목록!$G$5:$J$5,0))<>"휴무",FALSE())),OR(#REF!="",ISNUMBER(SEARCH(#REF!,전체목록!D17&" "&전체목록!E17)))),ROW(),"") -> #REF!
A18: =IF(AND(OR(#REF!="전체",전체목록!B18=#REF!),OR(#REF!="전체",전체목록!C18=#REF!,AND(#REF!="응급실 운영기관",COUNTIF(전체목록!G18:J18,"응급실운영")>0)),OR(#REF!="전체",IFERROR(INDEX(전체목록!G18:J18,MATCH(#REF!,전체목록!$G$5:$J$5,0))<>"휴무",FALSE())),OR(#REF!="",ISNUMBER(SEARCH(#REF!,전체목록!D18&" "&전체목록!E18)))),ROW(),"") -> #REF!
A19: =IF(AND(OR(#REF!="전체",전체목록!B19=#REF!),OR(#REF!="전체",전체목록!C19=#REF!,AND(#REF!="응급실 운영기관",COUNTIF(전체목록!G19:J19,"응급실운영")>0)),OR(#REF!="전체",IFERROR(INDEX(전체목록!G19:J19,MATCH(#REF!,전체목록!$G$5:$J$5,0))<>"휴무",FALSE())),OR(#REF!="",ISNUMBER(SEARCH(#REF!,전체목록!D19&" "&전체목록!E19)))),ROW(),"") -> #REF!
A20: =IF(AND(OR(#REF!="전체",전체목록!B20=#REF!),OR(#REF!="전체",전체목록!C20=#REF!,AND(#REF!="응급실 운영기관",COUNTIF(전체목록!G20:J20,"응급실운영")>0)),OR(#REF!="전체",IFERROR(INDEX(전체목록!G20:J20,MATCH(#REF!,전체목록!$G$5:$J$5,0))<>"휴무",FALSE())),OR(#REF!="",ISNUMBER(SEARCH(#REF!,전체목록!D20&" "&전체목록!E20)))),ROW(),"") -> #REF!
A21: =IF(AND(OR(#REF!="전체",전체목록!B21=#REF!),OR(#REF!="전체",전체목록!C21=#REF!,AND(#REF!="응급실 운영기관",COUNTIF(전체목록!G21:J21,"응급실운영")>0)),OR(#REF!="전체",IFERROR(INDEX(전체목록!G21:J21,MATCH(#REF!,전체목록!$G$5:$J$5,0))<>"휴무",FALSE())),OR(#REF!="",ISNUMBER(SEARCH(#REF!,전체목록!D21&" "&전체목록!E21)))),ROW(),"") -> #REF!
A22: =IF(AND(OR(#REF!="전체",전체목록!B22=#REF!),OR(#REF!="전체",전체목록!C22=#REF!,AND(#REF!="응급실 운영기관",COUNTIF(전체목록!G22:J22,"응급실운영")>0)),OR(#REF!="전체",IFERROR(INDEX(전체목록!G22:J22,MATCH(#REF!,전체목록!$G$5:$J$5,0))<>"휴무",FALSE())),OR(#REF!="",ISNUMBER(SEARCH(#REF!,전체목록!D22&" "&전체목록!E22)))),ROW(),"") -> #REF!
A23: =IF(AND(OR(#REF!="전체",전체목록!B23=#REF!),OR(#REF!="전체",전체목록!C23=#REF!,AND(#REF!="응급실 운영기관",COUNTIF(전체목록!G23:J23,"응급실운영")>0)),OR(#REF!="전체",IFERROR(INDEX(전체목록!G23:J23,MATCH(#REF!,전체목록!$G$5:$J$5,0))<>"휴무",FALSE())),OR(#REF!="",ISNUMBER(SEARCH(#REF!,전체목록!D23&" "&전체목록!E23)))),ROW(),"") -> #REF!
A24: =IF(AND(OR(#REF!="전체",전체목록!B24=#REF!),OR(#REF!="전체",전체목록!C24=#REF!,AND(#REF!="응급실 운영기관",COUNTIF(전체목록!G24:J24,"응급실운영")>0)),OR(#REF!="전체",IFERROR(INDEX(전체목록!G24:J24,MATCH(#REF!,전체목록!$G$5:$J$5,0))<>"휴무",FALSE())),OR(#REF!="",ISNUMBER(SEARCH(#REF!,전체목록!D24&" "&전체목록!E24)))),ROW(),"") -> #REF!
A25: =IF(AND(OR(#REF!="전체",전체목록!B25=#REF!),OR(#REF!="전체",전체목록!C25=#REF!,AND(#REF!="응급실 운영기관",COUNTIF(전체목록!G25:J25,"응급실운영")>0)),OR(#REF!="전체",IFERROR(INDEX(전체목록!G25:J25,MATCH(#REF!,전체목록!$G$5:$J$5,0))<>"휴무",FALSE())),OR(#REF!="",ISNUMBER(SEARCH(#REF!,전체목록!D25&" "&전체목록!E25)))),ROW(),"") -> #REF!
A26: =IF(AND(OR(#REF!="전체",전체목록!B26=#REF!),OR(#REF!="전체",전체목록!C26=#REF!,AND(#REF!="응급실 운영기관",COUNTIF(전체목록!G26:J26,"응급실운영")>0)),OR(#REF!="전체",IFERROR(INDEX(전체목록!G26:J26,MATCH(#REF!,전체목록!$G$5:$J$5,0))<>"휴무",FALSE())),OR(#REF!="",ISNUMBER(SEARCH(#REF!,전체목록!D26&" "&전체목록!E26)))),ROW(),"") -> #REF!
A27: =IF(AND(OR(#REF!="전체",전체목록!B27=#REF!),OR(#REF!="전체",전체목록!C27=#REF!,AND(#REF!="응급실 운영기관",COUNTIF(전체목록!G27:J27,"응급실운영")>0)),OR(#REF!="전체",IFERROR(INDEX(전체목록!G27:J27,MATCH(#REF!,전체목록!$G$5:$J$5,0))<>"휴무",FALSE())),OR(#REF!="",ISNUMBER(SEARCH(#REF!,전체목록!D27&" "&전체목록!E27)))),ROW(),"") -> #REF!
... A367: =IF(AND(OR(#REF!="전체",전체목록!B367=#REF!),OR(#REF!="전체",전체목록!C367=#REF!,AND(#REF!="응급실 운영기관",COUNTIF(전체목록!G367:J367,"응급실운영")>0)),OR(#REF!="전체",IFERROR(INDEX(전체목록!G367:J367,MATCH(#REF!,전체목록!$G$5:$J$5,0))<>"휴무",FALSE())),OR(#REF!="",ISNUMBER(SEARCH(#REF!,전체목록!D367&" "&전체목록!E367)))),ROW(),"") -> #REF!
